BEGIN:VCALENDAR
VERSION:2.0
PRODID:-//SSV Paulsdorf 1970 - ECPv6.15.20//NONSGML v1.0//EN
CALSCALE:GREGORIAN
METHOD:PUBLISH
X-WR-CALNAME:SSV Paulsdorf 1970
X-ORIGINAL-URL:https://ssv-paulsdorf.de
X-WR-CALDESC:Veranstaltungen für SSV Paulsdorf 1970
REFRESH-INTERVAL;VALUE=DURATION:PT1H
X-Robots-Tag:noindex
X-PUBLISHED-TTL:PT1H
BEGIN:VTIMEZONE
TZID:Europe/Berlin
BEGIN:DAYLIGHT
TZOFFSETFROM:+0100
TZOFFSETTO:+0200
TZNAME:CEST
DTSTART:20250330T010000
END:DAYLIGHT
BEGIN:STANDARD
TZOFFSETFROM:+0200
TZOFFSETTO:+0100
TZNAME:CET
DTSTART:20251026T010000
END:STANDARD
BEGIN:DAYLIGHT
TZOFFSETFROM:+0100
TZOFFSETTO:+0200
TZNAME:CEST
DTSTART:20260329T010000
END:DAYLIGHT
BEGIN:STANDARD
TZOFFSETFROM:+0200
TZOFFSETTO:+0100
TZNAME:CET
DTSTART:20261025T010000
END:STANDARD
BEGIN:DAYLIGHT
TZOFFSETFROM:+0100
TZOFFSETTO:+0200
TZNAME:CEST
DTSTART:20270328T010000
END:DAYLIGHT
BEGIN:STANDARD
TZOFFSETFROM:+0200
TZOFFSETTO:+0100
TZNAME:CET
DTSTART:20271031T010000
END:STANDARD
END:VTIMEZONE
BEGIN:VEVENT
DTSTART;TZID=Europe/Berlin:20260502T150000
DTEND;TZID=Europe/Berlin:20260502T210000
DTSTAMP:20260420T202815
CREATED:20260315T135042Z
LAST-MODIFIED:20260315T135042Z
UID:2066-1777734000-1777755600@ssv-paulsdorf.de
SUMMARY:Heimspiel - zu Gast: SV Inter Bergsteig II
DESCRIPTION:Am letzten Heimspieltag der Saison kommt es zum Nachbarschafts-Derby mit Reserve des SV Inter Bergsteig Ambergs. \nWie gewohnt wollen wir mit unseren Fans\, Spielern\, Sponsoren und Gästen im Anschluss an die Partie den Tag in geselliger Runde ausklingen lassen.
URL:https://ssv-paulsdorf.de/event/heimspiel-zu-gast-sv-inter-bergsteig-ii/
LOCATION:Vereinsheim SSV Paulsdorf\, Schmiedgaß 2\, Freudenberg\, Bayern\, 92272\, Deutschland
CATEGORIES:1. Mannschaft,Fußball,Spieltag - Fussball
ATTACH;FMTTYPE=image/png:https://ssv-paulsdorf.de/wp-content/uploads/2020/08/Football_Symbol.png
END:VEVENT
END:VCALENDAR