BEGIN:VCALENDAR
VERSION:2.0
PRODID:-//SSV Paulsdorf 1970 - ECPv6.15.20//NONSGML v1.0//EN
CALSCALE:GREGORIAN
METHOD:PUBLISH
X-WR-CALNAME:SSV Paulsdorf 1970
X-ORIGINAL-URL:https://ssv-paulsdorf.de
X-WR-CALDESC:Veranstaltungen für SSV Paulsdorf 1970
REFRESH-INTERVAL;VALUE=DURATION:PT1H
X-Robots-Tag:noindex
X-PUBLISHED-TTL:PT1H
BEGIN:VTIMEZONE
TZID:Europe/Berlin
BEGIN:DAYLIGHT
TZOFFSETFROM:+0100
TZOFFSETTO:+0200
TZNAME:CEST
DTSTART:20250330T010000
END:DAYLIGHT
BEGIN:STANDARD
TZOFFSETFROM:+0200
TZOFFSETTO:+0100
TZNAME:CET
DTSTART:20251026T010000
END:STANDARD
BEGIN:DAYLIGHT
TZOFFSETFROM:+0100
TZOFFSETTO:+0200
TZNAME:CEST
DTSTART:20260329T010000
END:DAYLIGHT
BEGIN:STANDARD
TZOFFSETFROM:+0200
TZOFFSETTO:+0100
TZNAME:CET
DTSTART:20261025T010000
END:STANDARD
BEGIN:DAYLIGHT
TZOFFSETFROM:+0100
TZOFFSETTO:+0200
TZNAME:CEST
DTSTART:20270328T010000
END:DAYLIGHT
BEGIN:STANDARD
TZOFFSETFROM:+0200
TZOFFSETTO:+0100
TZNAME:CET
DTSTART:20271031T010000
END:STANDARD
END:VTIMEZONE
BEGIN:VEVENT
DTSTART;TZID=Europe/Berlin:20260307T190000
DTEND;TZID=Europe/Berlin:20260307T220000
DTSTAMP:20260422T115753
CREATED:20260304T195635Z
LAST-MODIFIED:20260304T195635Z
UID:2046-1772910000-1772920800@ssv-paulsdorf.de
SUMMARY:Jahreshauptversammlung des TC Rot-Weiß Paulsdorf
DESCRIPTION:Die Jahreshauptversammlung des TC Rot-Weiß Paulsdor mit Neuwahlen findet am Samstag\, 07. März 2026 um 19 Uhr statt.  \nTagesordnung \n\nBegrüßung durch den Vorsitzenden\nTotengedenken\nVerlesung des Kurzprotokolls durch den Schriftführer\nBericht des Vorsitzenden\nBericht des Spartenleiter:\nBericht 1. Kassier\nBericht eines Kassenrevisors und Entlastung des Vorstandes\nGrußwort des Bürgermeisters\nEhrungen und Wahl\nWünsche\, Anträge\, Verschiedenes
URL:https://ssv-paulsdorf.de/event/jahreshauptversammlung-des-tc-rot-weiss-paulsdorf/
LOCATION:Landgasthof Aschenbrenner\, Schmiedgaß 5\, Freudenberg\, Bayern\, 92272\, Deutschland
CATEGORIES:Jahreshauptversammlung,Tennis
END:VEVENT
END:VCALENDAR