BEGIN:VCALENDAR
VERSION:2.0
PRODID:-//SSV Paulsdorf 1970 - ECPv6.15.20//NONSGML v1.0//EN
CALSCALE:GREGORIAN
METHOD:PUBLISH
X-ORIGINAL-URL:https://ssv-paulsdorf.de
X-WR-CALDESC:Veranstaltungen für SSV Paulsdorf 1970
REFRESH-INTERVAL;VALUE=DURATION:PT1H
X-Robots-Tag:noindex
X-PUBLISHED-TTL:PT1H
BEGIN:VTIMEZONE
TZID:Europe/Berlin
BEGIN:DAYLIGHT
TZOFFSETFROM:+0100
TZOFFSETTO:+0200
TZNAME:CEST
DTSTART:20240331T010000
END:DAYLIGHT
BEGIN:STANDARD
TZOFFSETFROM:+0200
TZOFFSETTO:+0100
TZNAME:CET
DTSTART:20241027T010000
END:STANDARD
BEGIN:DAYLIGHT
TZOFFSETFROM:+0100
TZOFFSETTO:+0200
TZNAME:CEST
DTSTART:20250330T010000
END:DAYLIGHT
BEGIN:STANDARD
TZOFFSETFROM:+0200
TZOFFSETTO:+0100
TZNAME:CET
DTSTART:20251026T010000
END:STANDARD
BEGIN:DAYLIGHT
TZOFFSETFROM:+0100
TZOFFSETTO:+0200
TZNAME:CEST
DTSTART:20260329T010000
END:DAYLIGHT
BEGIN:STANDARD
TZOFFSETFROM:+0200
TZOFFSETTO:+0100
TZNAME:CET
DTSTART:20261025T010000
END:STANDARD
END:VTIMEZONE
BEGIN:VEVENT
DTSTART;TZID=Europe/Berlin:20251213T183000
DTEND;TZID=Europe/Berlin:20251213T230000
DTSTAMP:20260421T030419
CREATED:20251213T100121Z
LAST-MODIFIED:20251213T100121Z
UID:2008-1765650600-1765666800@ssv-paulsdorf.de
SUMMARY:Weihnachtsfeier des SSV Paulsdorf
DESCRIPTION:
URL:https://ssv-paulsdorf.de/event/weihnachtsfeier-des-ssv-paulsdorf/
LOCATION:Landgasthof Aschenbrenner\, Schmiedgaß 5\, Freudenberg\, Bayern\, 92272\, Deutschland
CATEGORIES:1. Mannschaft,2. Mannschaft,Fußball,Gymnastik,Jugendarbeit,SSV Paulsdorf,Tennis,Veranstaltung,Vorstand
ATTACH;FMTTYPE=image/png:https://ssv-paulsdorf.de/wp-content/uploads/2025/12/Einladung-2024.png
END:VEVENT
END:VCALENDAR